Package: shiny.gosling Version: 1.5.0 Command: rm -rf shiny.gosling.buildbin-libdir && mkdir shiny.gosling.buildbin-libdir && /Users/biocbuild/BBS/utils/build-universal.sh shiny.gosling_1.5.0.tar.gz /Library/Frameworks/R.framework/Resources/bin/R shiny.gosling.buildbin-libdir StartedAt: 2025-10-09 22:57:21 -0400 (Thu, 09 Oct 2025) EndedAt: 2025-10-09 22:57:23 -0400 (Thu, 09 Oct 2025) EllapsedTime: 2.0 seconds RetCode: 0 Status: OK PackageFile: shiny.gosling_1.5.0.tgz PackageFileSize: 1.087 MiB