Package: sevenbridges Version: 1.41.0 Command: /Library/Frameworks/R.framework/Resources/bin/R CMD INSTALL sevenbridges StartedAt: 2025-11-21 15:19:29 -0500 (Fri, 21 Nov 2025) EndedAt: 2025-11-21 15:20:09 -0500 (Fri, 21 Nov 2025) EllapsedTime: 40.0 seconds RetCode: 0 Status: OK