Package: sevenbridges Version: 1.41.0 Command: rm -rf sevenbridges.buildbin-libdir && mkdir sevenbridges.buildbin-libdir && /Users/biocbuild/BBS/utils/build-universal.sh sevenbridges_1.41.0.tar.gz /Library/Frameworks/R.framework/Resources/bin/R sevenbridges.buildbin-libdir StartedAt: 2025-11-22 01:57:44 -0500 (Sat, 22 Nov 2025) EndedAt: 2025-11-22 01:58:25 -0500 (Sat, 22 Nov 2025) EllapsedTime: 41.4 seconds RetCode: 0 Status: OK PackageFile: sevenbridges_1.41.0.tgz PackageFileSize: 5.773 MiB