Package: sevenbridges Version: 1.39.0 Command: /Library/Frameworks/R.framework/Resources/bin/R CMD INSTALL sevenbridges StartedAt: 2025-10-28 15:07:22 -0400 (Tue, 28 Oct 2025) EndedAt: 2025-10-28 15:07:30 -0400 (Tue, 28 Oct 2025) EllapsedTime: 8.5 seconds RetCode: 0 Status: OK