Package: sevenC Version: 1.31.0 Command: /home/biocbuild/bbs-3.23-bioc/R/bin/R CMD INSTALL sevenC StartedAt: 2025-11-20 15:26:58 -0500 (Thu, 20 Nov 2025) EndedAt: 2025-11-20 15:27:21 -0500 (Thu, 20 Nov 2025) EllapsedTime: 22.8 seconds RetCode: 0 Status: OK