Package: sevenC Version: 1.31.0 Command: /home/biocbuild/bbs-3.23-bioc/R/bin/R CMD build --keep-empty-dirs --no-resave-data sevenC StartedAt: 2025-11-20 20:03:18 -0500 (Thu, 20 Nov 2025) EndedAt: 2025-11-20 20:04:38 -0500 (Thu, 20 Nov 2025) EllapsedTime: 80.1 seconds RetCode: 0 Status: OK PackageFile: sevenC_1.31.0.tar.gz PackageFileSize: 1.954 MiB