Package: sevenC Version: 1.29.2 Command: /Library/Frameworks/R.framework/Resources/bin/R CMD INSTALL sevenC StartedAt: 2025-10-24 15:35:21 -0400 (Fri, 24 Oct 2025) EndedAt: 2025-10-24 15:35:52 -0400 (Fri, 24 Oct 2025) EllapsedTime: 30.9 seconds RetCode: 0 Status: OK