Package: sevenC Version: 1.29.2 Command: /Library/Frameworks/R.framework/Resources/bin/R CMD build --keep-empty-dirs --no-resave-data sevenC StartedAt: 2025-10-27 18:40:09 -0400 (Mon, 27 Oct 2025) EndedAt: 2025-10-27 18:41:48 -0400 (Mon, 27 Oct 2025) EllapsedTime: 99.7 seconds RetCode: 0 Status: OK PackageFile: sevenC_1.29.2.tar.gz PackageFileSize: 1.934 MiB