Package: sevenC Version: 1.29.2 Command: rm -rf sevenC.buildbin-libdir && mkdir sevenC.buildbin-libdir && /Users/biocbuild/BBS/utils/build-universal.sh sevenC_1.29.2.tar.gz /Library/Frameworks/R.framework/Resources/bin/R sevenC.buildbin-libdir StartedAt: 2025-10-25 02:04:16 -0400 (Sat, 25 Oct 2025) EndedAt: 2025-10-25 02:04:50 -0400 (Sat, 25 Oct 2025) EllapsedTime: 33.5 seconds RetCode: 0 Status: OK PackageFile: sevenC_1.29.2.tgz PackageFileSize: 2.042 MiB