Package: sevenC Version: 1.29.1 Command: /Library/Frameworks/R.framework/Resources/bin/R CMD INSTALL sevenC StartedAt: 2025-10-07 15:16:29 -0400 (Tue, 07 Oct 2025) EndedAt: 2025-10-07 15:16:38 -0400 (Tue, 07 Oct 2025) EllapsedTime: 8.9 seconds RetCode: 0 Status: OK