Package: sevenC Version: 1.29.1 Command: /Library/Frameworks/R.framework/Resources/bin/R CMD build --keep-empty-dirs --no-resave-data sevenC StartedAt: 2025-10-05 17:46:47 -0400 (Sun, 05 Oct 2025) EndedAt: 2025-10-05 17:47:00 -0400 (Sun, 05 Oct 2025) EllapsedTime: 13.2 seconds RetCode: 1 Status: ERROR PackageFile: None PackageFileSize: NA