Package: sesame Version: 1.27.1 Command: /home/biocbuild/R/R/bin/R CMD INSTALL sesame StartedAt: 2025-10-13 21:03:25 -0000 (Mon, 13 Oct 2025) EndedAt: 2025-10-13 21:04:12 -0000 (Mon, 13 Oct 2025) EllapsedTime: 47.1 seconds RetCode: 0 Status: OK