Package: sesame Version: 1.27.1 Command: /home/biocbuild/bbs-3.22-bioc/R/bin/R CMD check --install=check:sesame.install-out.txt --library=/home/biocbuild/bbs-3.22-bioc/R/site-library --timings sesame_1.27.1.tar.gz StartedAt: 2025-10-15 04:20:01 -0400 (Wed, 15 Oct 2025) EndedAt: 2025-10-15 04:37:35 -0400 (Wed, 15 Oct 2025) EllapsedTime: 1054.1 seconds RetCode: 0 Status: OK CheckDir: sesame.Rcheck Warnings: 0