Package: sesame Version: 1.29.0 Command: /home/biocbuild/bbs-3.23-bioc/R/bin/R CMD build --keep-empty-dirs --no-resave-data sesame StartedAt: 2025-11-04 19:56:26 -0500 (Tue, 04 Nov 2025) EndedAt: 2025-11-04 19:59:28 -0500 (Tue, 04 Nov 2025) EllapsedTime: 182.2 seconds RetCode: 1 Status: ERROR PackageFile: None PackageFileSize: NA