Package: seqsetvis Version: 1.31.0 Command: /home/biocbuild/bbs-3.23-bioc/R/bin/R CMD build --keep-empty-dirs --no-resave-data seqsetvis StartedAt: 2025-11-05 20:02:46 -0500 (Wed, 05 Nov 2025) EndedAt: 2025-11-05 20:03:53 -0500 (Wed, 05 Nov 2025) EllapsedTime: 67.1 seconds RetCode: 1 Status: ERROR PackageFile: None PackageFileSize: NA