Package: seqsetvis Version: 1.29.1 Command: /Library/Frameworks/R.framework/Resources/bin/R CMD INSTALL seqsetvis StartedAt: 2025-10-14 15:32:34 -0400 (Tue, 14 Oct 2025) EndedAt: 2025-10-14 15:33:25 -0400 (Tue, 14 Oct 2025) EllapsedTime: 50.9 seconds RetCode: 0 Status: OK