Package: seqsetvis Version: 1.29.1 Command: /Library/Frameworks/R.framework/Resources/bin/R CMD INSTALL seqsetvis StartedAt: 2025-10-05 15:18:43 -0400 (Sun, 05 Oct 2025) EndedAt: 2025-10-05 15:18:58 -0400 (Sun, 05 Oct 2025) EllapsedTime: 14.7 seconds RetCode: 0 Status: OK