Package: seqsetvis Version: 1.29.1 Command: /Library/Frameworks/R.framework/Resources/bin/R CMD build --keep-empty-dirs --no-resave-data seqsetvis StartedAt: 2025-10-03 17:42:11 -0400 (Fri, 03 Oct 2025) EndedAt: 2025-10-03 17:42:46 -0400 (Fri, 03 Oct 2025) EllapsedTime: 34.4 seconds RetCode: 0 Status: OK PackageFile: seqsetvis_1.29.1.tar.gz PackageFileSize: 2.067 MiB