Package: seqcombo Version: 1.31.0 Command: /Library/Frameworks/R.framework/Resources/bin/R CMD INSTALL seqcombo StartedAt: 2025-10-03 15:04:39 -0400 (Fri, 03 Oct 2025) EndedAt: 2025-10-03 15:04:44 -0400 (Fri, 03 Oct 2025) EllapsedTime: 4.4 seconds RetCode: 0 Status: OK