Package: seqcombo Version: 1.31.0 Command: /Library/Frameworks/R.framework/Resources/bin/R CMD build --keep-empty-dirs --no-resave-data seqcombo StartedAt: 2025-10-03 17:41:57 -0400 (Fri, 03 Oct 2025) EndedAt: 2025-10-03 17:42:04 -0400 (Fri, 03 Oct 2025) EllapsedTime: 7.1 seconds RetCode: 0 Status: OK PackageFile: seqcombo_1.31.0.tar.gz PackageFileSize: 1.189 MiB