Package: seqcombo Version: 1.31.0 Command: rm -rf seqcombo.buildbin-libdir && mkdir seqcombo.buildbin-libdir && /Users/biocbuild/BBS/utils/build-universal.sh seqcombo_1.31.0.tar.gz /Library/Frameworks/R.framework/Resources/bin/R seqcombo.buildbin-libdir StartedAt: 2025-10-03 22:55:42 -0400 (Fri, 03 Oct 2025) EndedAt: 2025-10-03 22:55:45 -0400 (Fri, 03 Oct 2025) EllapsedTime: 3.1 seconds RetCode: 0 Status: OK PackageFile: seqcombo_1.31.0.tgz PackageFileSize: 872.2 KiB