Package: seqTools Version: 1.43.1 Command: /home/biocbuild/R/R/bin/R CMD build --keep-empty-dirs --no-resave-data seqTools StartedAt: 2025-10-21 03:06:51 -0000 (Tue, 21 Oct 2025) EndedAt: 2025-10-21 03:06:52 -0000 (Tue, 21 Oct 2025) EllapsedTime: 1.0 seconds RetCode: 1 Status: ERROR PackageFile: None PackageFileSize: NA