Package: seqTools Version: 1.43.1 Command: /home/biocbuild/bbs-3.23-bioc/R/bin/R CMD INSTALL seqTools StartedAt: 2025-10-22 21:54:10 -0000 (Wed, 22 Oct 2025) EndedAt: 2025-10-22 21:54:12 -0000 (Wed, 22 Oct 2025) EllapsedTime: 1.9 seconds RetCode: 1 Status: ERROR