############################################################################## ############################################################################## ### ### Running command: ### ### /home/biocbuild/bbs-3.23-bioc/R/bin/R CMD build --keep-empty-dirs --no-resave-data seqTools ### ############################################################################## ############################################################################## * checking for file ‘seqTools/DESCRIPTION’ ... OK * preparing ‘seqTools’: * checking DESCRIPTION meta-information ... OK * cleaning src * installing the package (it is needed to build vignettes) ----------------------------------- ERROR: dependency ‘zlibbioc’ is not available for package ‘seqTools’ Perhaps try a variation of: install.packages('zlibbioc') * removing ‘/tmp/Rtmpwglat9/Rinst195d477d62cad1/seqTools’ ----------------------------------- ERROR: package installation failed