Back to Build/check report for BioC 3.23:   simplified   long
ABCDEFGHIJKLMNOPQR[S]TUVWXYZ

This page was generated on 2025-10-23 11:30 -0400 (Thu, 23 Oct 2025).

HostnameOSArch (*)R versionInstalled pkgs
nebbiolo1Linux (Ubuntu 24.04.3 LTS)x86_64R Under development (unstable) (2025-10-20 r88955) -- "Unsuffered Consequences" 3809
Click on any hostname to see more info about the system (e.g. compilers)      (*) as reported by 'uname -p', except on Windows and Mac OS X

All results for package seqTools


To the developers/maintainers of the seqTools package:
- Allow up to 24 hours (and sometimes 48 hours) for your latest push to git@git.bioconductor.org:packages/seqTools.git to reflect on this report. See Troubleshooting Build Report for more information.
- Use the following Renviron settings to reproduce errors and warnings.
- If 'R CMD check' started to fail recently on the Linux builder(s) over a missing dependency, add the missing dependency to 'Suggests:' in your DESCRIPTION file. See Renviron.bioc for more information.

raw results

Package 1983/2355HostnameOS / ArchINSTALLBUILDCHECKBUILD BIN
seqTools 1.43.1  (landing page)
Wolfgang Kaisers
Snapshot Date: 2025-10-22 15:48 -0400 (Wed, 22 Oct 2025)
git_url: https://git.bioconductor.org/packages/seqTools
git_branch: devel
git_last_commit: eab7a7c
git_last_commit_date: 2025-06-20 08:46:16 -0400 (Fri, 20 Jun 2025)
nebbiolo1Linux (Ubuntu 24.04.3 LTS) / x86_64  ERROR    ERROR  skipped



Results for Bioconductor software packages that depend directly on package seqTools

QUICK STATSOS / ArchINSTALLBUILDCHECKBUILD BIN
nebbiolo1Linux (Ubuntu 24.04.3 LTS) / x86_64
010
010
0000
Package 1/1HostnameOS / ArchINSTALLBUILDCHECKBUILD BIN
qckitfastq 1.25.1  (landing page)
August Guang
git_last_commit: 6157afc
git_last_commit_date: 2025-07-07 12:54:41 -0400
nebbiolo1Linux (Ubuntu 24.04.3 LTS) / x86_64  ERROR    ERROR  skipped