Package: seqPattern Version: 1.43.0 Command: /home/biocbuild/bbs-3.23-bioc/R/bin/R CMD check --install=check:seqPattern.install-out.txt --library=/home/biocbuild/bbs-3.23-bioc/R/site-library --timings seqPattern_1.43.0.tar.gz StartedAt: 2025-11-06 03:50:38 -0500 (Thu, 06 Nov 2025) EndedAt: 2025-11-06 03:52:55 -0500 (Thu, 06 Nov 2025) EllapsedTime: 136.2 seconds RetCode: 0 Status: OK CheckDir: seqPattern.Rcheck Warnings: 0