Package: seqPattern Version: 1.43.0 Command: /home/biocbuild/bbs-3.23-bioc/R/bin/R CMD build --keep-empty-dirs --no-resave-data seqPattern StartedAt: 2025-11-05 20:02:46 -0500 (Wed, 05 Nov 2025) EndedAt: 2025-11-05 20:03:16 -0500 (Wed, 05 Nov 2025) EllapsedTime: 30.0 seconds RetCode: 0 Status: OK PackageFile: seqPattern_1.43.0.tar.gz PackageFileSize: 5.368 MiB