Package: seqPattern Version: 1.42.0 Command: /Library/Frameworks/R.framework/Resources/bin/R CMD check --install=check:seqPattern.install-out.txt --library=/Library/Frameworks/R.framework/Resources/library --no-vignettes --timings seqPattern_1.42.0.tar.gz StartedAt: 2025-10-30 04:27:43 -0400 (Thu, 30 Oct 2025) EndedAt: 2025-10-30 04:28:33 -0400 (Thu, 30 Oct 2025) EllapsedTime: 49.6 seconds RetCode: 0 Status: OK CheckDir: seqPattern.Rcheck Warnings: 0