Package: seqLogo Version: 1.77.0 Command: /home/biocbuild/bbs-3.23-bioc/R/bin/R CMD INSTALL seqLogo StartedAt: 2025-11-20 15:03:29 -0500 (Thu, 20 Nov 2025) EndedAt: 2025-11-20 15:03:54 -0500 (Thu, 20 Nov 2025) EllapsedTime: 24.9 seconds RetCode: 0 Status: OK