Package: seqLogo Version: 1.77.0 Command: /home/biocbuild/bbs-3.23-bioc/R/bin/R CMD build --keep-empty-dirs --no-resave-data seqLogo StartedAt: 2025-11-20 20:02:08 -0500 (Thu, 20 Nov 2025) EndedAt: 2025-11-20 20:02:15 -0500 (Thu, 20 Nov 2025) EllapsedTime: 7.0 seconds RetCode: 0 Status: OK PackageFile: seqLogo_1.77.0.tar.gz PackageFileSize: 919 KiB