Package: seqLogo Version: 1.75.0 Command: /Library/Frameworks/R.framework/Resources/bin/R CMD INSTALL seqLogo StartedAt: 2025-10-17 15:06:15 -0400 (Fri, 17 Oct 2025) EndedAt: 2025-10-17 15:06:57 -0400 (Fri, 17 Oct 2025) EllapsedTime: 42.1 seconds RetCode: 0 Status: OK