Package: seqLogo Version: 1.75.0 Command: /Library/Frameworks/R.framework/Resources/bin/R CMD INSTALL seqLogo StartedAt: 2025-10-03 15:02:36 -0400 (Fri, 03 Oct 2025) EndedAt: 2025-10-03 15:02:46 -0400 (Fri, 03 Oct 2025) EllapsedTime: 10.6 seconds RetCode: 0 Status: OK