Package: seqLogo Version: 1.75.0 Command: /Library/Frameworks/R.framework/Resources/bin/R CMD build --keep-empty-dirs --no-resave-data seqLogo StartedAt: 2025-10-03 17:42:07 -0400 (Fri, 03 Oct 2025) EndedAt: 2025-10-03 17:42:11 -0400 (Fri, 03 Oct 2025) EllapsedTime: 4.0 seconds RetCode: 0 Status: OK PackageFile: seqLogo_1.75.0.tar.gz PackageFileSize: 1.152 MiB