Package: seqLogo Version: 1.77.0 Maintainer: Robert Ivanek MaintainerEmail: robert.ivanek at unibas.ch git_url: https://git.bioconductor.org/packages/seqLogo git_branch: devel git_last_commit: f1113d7 git_last_commit_date: 2025-10-29 09:59:01 -0400 (Wed, 29 Oct 2025)