Package: seqCAT Version: 1.33.0 Command: /home/biocbuild/bbs-3.23-bioc/R/bin/R CMD build --keep-empty-dirs --no-resave-data seqCAT StartedAt: 2025-11-05 20:01:53 -0500 (Wed, 05 Nov 2025) EndedAt: 2025-11-05 20:03:25 -0500 (Wed, 05 Nov 2025) EllapsedTime: 92.1 seconds RetCode: 0 Status: OK PackageFile: seqCAT_1.33.0.tar.gz PackageFileSize: 1.891 MiB