Package: seqCAT Version: 1.31.0 Command: /Library/Frameworks/R.framework/Resources/bin/R CMD INSTALL seqCAT StartedAt: 2025-10-13 15:39:29 -0400 (Mon, 13 Oct 2025) EndedAt: 2025-10-13 15:40:22 -0400 (Mon, 13 Oct 2025) EllapsedTime: 53.0 seconds RetCode: 0 Status: OK