Package: seqCAT Version: 1.31.0 Command: /Library/Frameworks/R.framework/Resources/bin/R CMD build --keep-empty-dirs --no-resave-data seqCAT StartedAt: 2025-10-12 19:13:58 -0400 (Sun, 12 Oct 2025) EndedAt: 2025-10-12 19:15:56 -0400 (Sun, 12 Oct 2025) EllapsedTime: 117.9 seconds RetCode: 0 Status: OK PackageFile: seqCAT_1.31.0.tar.gz PackageFileSize: 1.897 MiB