Package: seqCAT Version: 1.31.0 Command: rm -rf seqCAT.buildbin-libdir && mkdir seqCAT.buildbin-libdir && /Users/biocbuild/BBS/utils/build-universal.sh seqCAT_1.31.0.tar.gz /Library/Frameworks/R.framework/Resources/bin/R seqCAT.buildbin-libdir StartedAt: 2025-10-13 02:56:54 -0400 (Mon, 13 Oct 2025) EndedAt: 2025-10-13 02:57:47 -0400 (Mon, 13 Oct 2025) EllapsedTime: 53.0 seconds RetCode: 0 Status: OK PackageFile: seqCAT_1.31.0.tgz PackageFileSize: 1.959 MiB