Package: seqArchRplus Version: 1.9.2 Command: /home/biocbuild/bbs-3.23-bioc/R/bin/R CMD INSTALL seqArchRplus StartedAt: 2025-10-22 21:56:48 -0000 (Wed, 22 Oct 2025) EndedAt: 2025-10-22 21:56:49 -0000 (Wed, 22 Oct 2025) EllapsedTime: 0.9 seconds RetCode: 1 Status: ERROR