############################################################################## ############################################################################## ### ### Running command: ### ### /home/biocbuild/bbs-3.23-bioc/R/bin/R CMD INSTALL seqArchRplus ### ############################################################################## ############################################################################## * installing to library ‘/home/biocbuild/bbs-3.23-bioc/R/site-library’ ERROR: dependencies ‘ChIPseeker’, ‘clusterProfiler’ are not available for package ‘seqArchRplus’ Perhaps try a variation of: install.packages(c('ChIPseeker', 'clusterProfiler')) * removing ‘/home/biocbuild/bbs-3.23-bioc/R/site-library/seqArchRplus’