Package: seqArchRplus Version: 1.9.2 Command: /home/biocbuild/bbs-3.23-bioc/R/bin/R CMD build --keep-empty-dirs --no-resave-data seqArchRplus StartedAt: 2025-10-23 00:31:06 -0000 (Thu, 23 Oct 2025) EndedAt: 2025-10-23 00:31:07 -0000 (Thu, 23 Oct 2025) EllapsedTime: 1.0 seconds RetCode: 1 Status: ERROR PackageFile: None PackageFileSize: NA