############################################################################## ############################################################################## ### ### Running command: ### ### /home/biocbuild/bbs-3.23-bioc/R/bin/R CMD build --keep-empty-dirs --no-resave-data seqArchRplus ### ############################################################################## ############################################################################## * checking for file ‘seqArchRplus/DESCRIPTION’ ... OK * preparing ‘seqArchRplus’: * checking DESCRIPTION meta-information ... OK * installing the package (it is needed to build vignettes) ----------------------------------- ERROR: dependencies ‘ChIPseeker’, ‘clusterProfiler’ are not available for package ‘seqArchRplus’ Perhaps try a variation of: install.packages(c('ChIPseeker', 'clusterProfiler')) * removing ‘/tmp/RtmpNdYJZJ/Rinst19542140fff946/seqArchRplus’ ----------------------------------- ERROR: package installation failed