Package: seqArchRplus Version: 1.9.2 Command: /Library/Frameworks/R.framework/Resources/bin/R CMD build --keep-empty-dirs --no-resave-data seqArchRplus StartedAt: 2025-10-20 19:26:13 -0400 (Mon, 20 Oct 2025) EndedAt: 2025-10-20 19:30:03 -0400 (Mon, 20 Oct 2025) EllapsedTime: 230.4 seconds RetCode: 0 Status: OK PackageFile: seqArchRplus_1.9.2.tar.gz PackageFileSize: 3.742 MiB