Package: seqArchRplus Version: 1.9.2 Command: /Library/Frameworks/R.framework/Resources/bin/R CMD INSTALL seqArchRplus StartedAt: 2025-10-10 15:34:03 -0400 (Fri, 10 Oct 2025) EndedAt: 2025-10-10 15:34:13 -0400 (Fri, 10 Oct 2025) EllapsedTime: 10.1 seconds RetCode: 0 Status: OK