Package: seqArchRplus Version: 1.9.2 Command: /Library/Frameworks/R.framework/Resources/bin/R CMD build --keep-empty-dirs --no-resave-data seqArchRplus StartedAt: 2025-10-10 17:42:01 -0400 (Fri, 10 Oct 2025) EndedAt: 2025-10-10 17:43:11 -0400 (Fri, 10 Oct 2025) EllapsedTime: 69.9 seconds RetCode: 0 Status: OK PackageFile: seqArchRplus_1.9.2.tar.gz PackageFileSize: 3.743 MiB