Package: seqArchRplus Version: 1.9.2 Command: rm -rf seqArchRplus.buildbin-libdir && mkdir seqArchRplus.buildbin-libdir && /Users/biocbuild/BBS/utils/build-universal.sh seqArchRplus_1.9.2.tar.gz /Library/Frameworks/R.framework/Resources/bin/R seqArchRplus.buildbin-libdir StartedAt: 2025-10-10 22:57:32 -0400 (Fri, 10 Oct 2025) EndedAt: 2025-10-10 22:57:43 -0400 (Fri, 10 Oct 2025) EllapsedTime: 11.3 seconds RetCode: 0 Status: OK PackageFile: seqArchRplus_1.9.2.tgz PackageFileSize: 3.849 MiB