Package: seqArchR Version: 1.13.1 Command: /home/biocbuild/R/R/bin/R CMD INSTALL seqArchR StartedAt: 2025-10-09 21:10:28 -0000 (Thu, 09 Oct 2025) EndedAt: 2025-10-09 21:10:51 -0000 (Thu, 09 Oct 2025) EllapsedTime: 22.8 seconds RetCode: 0 Status: OK