Package: seqArchR Version: 1.13.1 Command: /home/biocbuild/R/R/bin/R CMD build --keep-empty-dirs --no-resave-data seqArchR StartedAt: 2025-10-10 04:05:59 -0000 (Fri, 10 Oct 2025) EndedAt: 2025-10-10 04:07:06 -0000 (Fri, 10 Oct 2025) EllapsedTime: 67.1 seconds RetCode: 0 Status: OK PackageFile: seqArchR_1.13.1.tar.gz PackageFileSize: 3.983 MiB