Package: seqArchR Version: 1.13.1 Command: /home/biocbuild/bbs-3.23-bioc/R/bin/R CMD INSTALL seqArchR StartedAt: 2025-10-22 21:17:42 -0000 (Wed, 22 Oct 2025) EndedAt: 2025-10-22 21:18:00 -0000 (Wed, 22 Oct 2025) EllapsedTime: 17.9 seconds RetCode: 0 Status: OK