Package: seqArchR Version: 1.13.1 Command: /home/biocbuild/bbs-3.23-bioc/R/bin/R CMD check --install=check:seqArchR.install-out.txt --library=/home/biocbuild/bbs-3.23-bioc/R/site-library --timings seqArchR_1.13.1.tar.gz StartedAt: 2025-10-23 04:20:54 -0000 (Thu, 23 Oct 2025) EndedAt: 2025-10-23 04:23:26 -0000 (Thu, 23 Oct 2025) EllapsedTime: 152.1 seconds RetCode: 1 Status: ERROR CheckDir: seqArchR.Rcheck Warnings: NA